BEGIN:VCALENDAR
PRODID:-//AT Content Types//AT Event//EN
VERSION:1.0
BEGIN:VEVENT
DTSTART:20241019T090000Z
DTEND:20241020T100000Z
DCREATED:20240913T103450Z
UID:ATEvent-e124e7d4eb164a33bdb2e05e755efd7c
SEQUENCE:0
LAST-MODIFIED:20240913T103500Z
SUMMARY:Tiina Manderbacka\, 7.  Dan
LOCATION:Linz
PRIORITY:3
TRANSP:0
END:VEVENT
END:VCALENDAR
